BEGIN:VCALENDAR
VERSION:2.0
PRODID:-//The Metropolitan Orchestra - ECPv6.14.2//NONSGML v1.0//EN
CALSCALE:GREGORIAN
METHOD:PUBLISH
X-WR-CALNAME:The Metropolitan Orchestra
X-ORIGINAL-URL:https://www.metorchestra.com.au
X-WR-CALDESC:Events for The Metropolitan Orchestra
REFRESH-INTERVAL;VALUE=DURATION:PT1H
X-Robots-Tag:noindex
X-PUBLISHED-TTL:PT1H
BEGIN:VTIMEZONE
TZID:Australia/Sydney
BEGIN:STANDARD
TZOFFSETFROM:+1100
TZOFFSETTO:+1000
TZNAME:AEST
DTSTART:20210403T160000
END:STANDARD
BEGIN:DAYLIGHT
TZOFFSETFROM:+1000
TZOFFSETTO:+1100
TZNAME:AEDT
DTSTART:20211002T160000
END:DAYLIGHT
BEGIN:STANDARD
TZOFFSETFROM:+1100
TZOFFSETTO:+1000
TZNAME:AEST
DTSTART:20220402T160000
END:STANDARD
BEGIN:DAYLIGHT
TZOFFSETFROM:+1000
TZOFFSETTO:+1100
TZNAME:AEDT
DTSTART:20221001T160000
END:DAYLIGHT
BEGIN:STANDARD
TZOFFSETFROM:+1100
TZOFFSETTO:+1000
TZNAME:AEST
DTSTART:20230401T160000
END:STANDARD
BEGIN:DAYLIGHT
TZOFFSETFROM:+1000
TZOFFSETTO:+1100
TZNAME:AEDT
DTSTART:20230930T160000
END:DAYLIGHT
END:VTIMEZONE
BEGIN:VEVENT
DTSTART;TZID=Australia/Sydney:20221227T180000
DTEND;TZID=Australia/Sydney:20230122T223000
DTSTAMP:20260424T184533
CREATED:20220712T025151Z
LAST-MODIFIED:20230420T044636Z
UID:15306-1672164000-1674426600@www.metorchestra.com.au
SUMMARY:Amadeus
DESCRIPTION:MICHAEL SHEEN in AMADEUS – A play by Peter Shaffer. \nThis summer\, celebrate the Opera House’s 50th anniversary with the explosive revival of Peter Shaffer’s Tony and Academy Award-winning masterpiece. Starring acclaimed actor Michael Sheen (The Twilight Saga\, The Queen\, Masters of Sex\, Good Omens) as Antonio Salieri and Rahel Romahn (Here Out West\, Shantaram\, Lord of The Flies) as Wolfgang Amadeus Mozart and Lily Balatincz (Constellations\, The Eggs\, Stop the Virgens) as Constanze Mozart. Watch as history’s most fictitious rivalry comes to life as a gripping contemporary spectacle fuelled by ambition\, obsession\, and betrayal. \nAntonio Salieri may be a religious man but the vengeful dark of his desires are wholly unholy\, and atonement won’t come easy for the alleged murder of the world’s most famous composer – Wolfgang Amadeus Mozart. His startling confession involves regency-sized egos\, envy-inspiring concertos and dizzying mayhem.  \nThe muddy circumstances of Mozart’s premature requiem are made new with this contemporary production\, exposing hypocrisy and aristocracy\, mediocrity and genius\, revenge and betrayal. Experience theatre at its most grand as one of the greatest plays of the 20th century is performed on newly transformed Concert Hall stage. \nThis ambitious contemporary production combines theatre\, opera and classical music with lavish costumes directed by Australian fashion house Romance Was Born and costumes designed by Anna Cordingley. \nDirected by multi award-winning director Craig Ilott (Smoke & Mirrors\, American Idiot\, Betty Blokk-Buster Reimagined) and featuring forty performers\, including actors\, opera singers and musicians from The Metropolitan Orchestra\, conducted by Sarah-Grace Williams. \nPresented by the Sydney Opera House and Red Line Productions.\nThis project is proudly supported by the NSW Government through the Blockbusters Funding initiative.
URL:https://www.metorchestra.com.au/event/amadeus-sydney-opera-house/
LOCATION:NSW
CATEGORIES:Special Events
ATTACH;FMTTYPE=image/jpeg:https://www.metorchestra.com.au/wp-content/uploads/2022/07/65.jpg
END:VEVENT
BEGIN:VEVENT
DTSTART;TZID=Australia/Sydney:20211210T183000
DTEND;TZID=Australia/Sydney:20211210T223000
DTSTAMP:20260424T184533
CREATED:20210810T074516Z
LAST-MODIFIED:20230420T032706Z
UID:14605-1639161000-1639175400@www.metorchestra.com.au
SUMMARY:Synthony
DESCRIPTION:Please note due to Covid that the event date has now changed to December 10. \nAfter two sold-out shows in Melbourne and Brisbane\, Synthony is expanding its Australian 2021 Tour with Perth and Sydney added to the schedule. The hugely successful show both in Australia and New Zealand\, is the ultimate celebration of the last 30 years of dance music. Synthony is a unique collaboration between Orchestra\, DJs\, live vocalists and feature musicians. \nThe super-charged and energetic Synthony\, will showcase the biggest dance anthems from icons such as: Avicii\, Eric Prydz\, Fatboy Slim\, Fisher and Faithless to name just a few. The popular show will be backed with the full might of The Metropolitan Orchestra in Sydney\, led by star Conductor\, Sarah-Grace Williams. The show is stacked with iconic stars from across the Australian music spectrum playing their global hits including: Miss Connie (Sneaky Sound System)\, Ilan Kidron (The Potbelleez)\, Emily Williams\, Ella Monnery\, Greg Gould\, Mobin Master\, Andy Van (Madison Avenue /Vicious Records) and Mark Dynamix. \nWith an epic backdrop of visuals\, lasers\, and a state-of-the-art sound system\, it’s a magical\, uplifting\, hands-in-the-air dance party like no other. An energetic show from the outset\, this is not an orchestra as you know it. This celebration of dance music is more than just a show\, it takes the audience on a nostalgic journey back through their most memorable dance music experiences. Track after track\, fans are taken down memory lane and celebrate dance music that is embedded into their subconscious.
URL:https://www.metorchestra.com.au/event/synthony/
LOCATION:Qudos Bank Arena\, 19 Edwin Flack Avenue\, Sydney Olympic Park\, NSW\, 2127
CATEGORIES:Special Events
ATTACH;FMTTYPE=image/jpeg:https://www.metorchestra.com.au/wp-content/uploads/2021/08/SYNTHONY.jpg
END:VEVENT
BEGIN:VEVENT
DTSTART;TZID=Australia/Sydney:20210508T200000
DTEND;TZID=Australia/Sydney:20210508T220000
DTSTAMP:20260424T184533
CREATED:20210730T155644Z
LAST-MODIFIED:20230420T020511Z
UID:14388-1620504000-1620511200@www.metorchestra.com.au
SUMMARY:Jurassic Park In Concert
DESCRIPTION:Relive the magic of Jurassic Park on the big screen accompanied by a thrilling\, live performance by The Metropolitan Orchestra\, conducted by Sarah-Grace Williams. \nThe action-packed adventure pits man against prehistoric predators in the ultimate battle for survival. Featuring visually stunning imagery and ground-breaking special effects\, this epic film is sheer movie magic 65 million years in the making. \nNow audiences can experience Jurassic Park as never before:  projected in HD with a full symphony orchestra performing John Williams’ iconic score live to picture. \nWelcome… to Jurassic Park!
URL:https://www.metorchestra.com.au/event/jurassic-park-in-concert/
LOCATION:NSW
CATEGORIES:Special Events
ATTACH;FMTTYPE=image/jpeg:https://www.metorchestra.com.au/wp-content/uploads/2021/07/JURASSIC.jpg
END:VEVENT
END:VCALENDAR